Workbook

Sheet Kp bo tri du toan
A1: BIỂU 01: TỔNG HỢP KINH PHÍ THỰC HIỆN CUỘC VẬN ĐỘNG "TOÀN DÂN ĐOÀN KẾT XÂY DỰNG NÔNG THÔN MỚI, ĐÔ THỊ VĂN MINH"
A2: (Kèm theo Báo cáo số /BC-STC ngày tháng 10 năm 2026 của Sở Tài chính)
V3: Đơn vị: triệu đồng
A4: STT | B4: Nội dung | C4: Nghị quyết 05/2018/NQ-HĐND | V4: Đề xuất mức quy định mới từ năm 2027 | Y4: Tỷ lệ so sánh định mức hỗ trợ đề xuất mới với định mức hỗ trợ quy định tại Nghị quyết 05/2018/NQ-HĐND | Z4: Ghi chú
C5: Định mức hỗ trợ | D5: Năm 2018 | F5: Năm 2019 | H5: Năm 2020 | J5: Năm 2021 | L5: Năm 2022 | N5: Năm 2023 | P5: Năm 2024- 2025 | R5: Năm 2026
R6: Dự toán cấp đầu năm | T6: Dự toán tính toán lại sau khi sáp nhập thôn, tổ dân phố
D7: Số lượng | E7: Kinh phí | F7: Số lượng | G7: Kinh phí | H7: Số lượng | I7: Kinh phí | J7: Số lượng | K7: Kinh phí | L7: Số lượng | M7: Kinh phí | N7: Số lượng | O7: Kinh phí | P7: Số lượng | Q7: Kinh phí | T7: Số lượng | U7: Kinh phí | V7: Định mức hỗ trợ | W7: số lượng | X7: Kinh phí
B8: TỔNG | E8: =E9+E12 -> 18632 | G8: =G9+G12 -> 16934 | I8: =I9+I12 -> 15282 | K8: =K9+K12 -> 14438 | M8: =M9+M12 -> 14018 | O8: =O9+O12 -> 13914 | Q8: =Q9+Q12 -> 13844 | S8: =S9+S12 -> 10224 | U8: =U9+U12 -> 8909.5 | X8: =X9+X12 -> 13004
A9: 1 | B9: UBMTTQ Việt Nam cấp xã | E9: =E10+E11 -> 5355 | G9: =G10+G11 -> 5355 | I9: =I10+I11 -> 4740 | K9: =K10+K11 -> 4740 | M9: =M10+M11 -> 4480 | O9: =O10+O11 -> 4480 | Q9: =Q10+Q11 -> 4480 | S9: =S10+S11 -> 1435 | U9: =U10+U11 -> 1555 | X9: =X10+X11 -> 3110
A10: - | B10: Xã khu vực III, II | C10: 25 | D10: 167 | E10: =C10*D10 -> 4175 | F10: 167 | G10: =F10*$C$10 -> 4175 | H10: 148 | I10: =H10*$C$10 -> 3700 | J10: 148 | K10: =J10*$C$10 -> 3700 | L10: 96 | M10: =L10*$C$10 -> 2400 | N10: 96 | O10: =N10*$C$10 -> 2400 | P10: 96 | Q10: =P10*$C$10 -> 2400 | R10: 27 | S10: =R10*$C$10 -> 675 | T10: 51 | U10: =T10*$C$10 -> 1275 | V10: 50 | W10: 51 | X10: =W10*V10 -> 2550 | Y10: =V10/C10% -> 200
A11: - | B11: Xã khu vực I | C11: 20 | D11: 59 | E11: =C11*D11 -> 1180 | F11: 59 | G11: =F11*$C$11 -> 1180 | H11: 52 | I11: =H11*$C$11 -> 1040 | J11: 52 | K11: =J11*$C$11 -> 1040 | L11: 104 | M11: =L11*$C$11 -> 2080 | N11: 104 | O11: =N11*$C$11 -> 2080 | P11: 104 | Q11: =P11*$C$11 -> 2080 | R11: 38 | S11: =R11*$C$11 -> 760 | T11: =65-T10 -> 14 | U11: =T11*$C$11 -> 280 | V11: 40 | W11: 14 | X11: =W11*V11 -> 560 | Y11: =V11/C11% -> 200
A12: 2 | B12: Ban công tác Mặt trận ở khu dân cư | E12: =E13+E14+E15 -> 13277 | G12: =G13+G14+G15 -> 11579 | I12: =I13+I14+I15 -> 10542 | K12: =K13+K14+K15 -> 9698 | M12: =M13+M14+M15 -> 9538 | O12: =O13+O14+O15 -> 9434 | Q12: =Q13+Q14+Q15 -> 9364 | S12: =S13+S14+S15 -> 8789 | U12: =U13+U14+U15 -> 7354.5 | X12: =X13+X14+X15 -> 9894
A13: - | B13: Khu dân cư có quy mô dân số dưới 700 hộ dân | C13: 5 | D13: 2314 | E13: =C13*D13 -> 11570 | F13: 2026 | G13: =F13*$C$13 -> 10130 | H13: 1850 | I13: =H13*$C$13 -> 9250 | J13: 1705 | K13: =J13*$C$13 -> 8525 | L13: 1676 | M13: =L13*$C$13 -> 8380 | N13: 1658 | O13: =N13*$C$13 -> 8290 | P13: 1646 | Q13: =P13*$C$13 -> 8230 | R13: 1646 | S13: =R13*$C$13 -> 8230 | T13: 1646 | U13: =T13*$C$13/2+W13*C13/2 -> 6422.5 | V13: 10 | W13: 923 | X13: =W13*V13 -> 9230 | Y13: =V13/C13% -> 200 | Z13: Từ 1/7/2026 thực hiện sáp nhập thôn từ 1.646 thôn, còn 923 thôn. Kinh phí năm 2026 tính lại 6 tháng đầu năm là 1.646 thôn, tổ dân phố; 6 tháng cuối năm là 923 thôn, tổ dân phố
A14: - | B14: Khu dân cư có quy mô dân số cứ tăng thêm 200 hộ dân thì được hỗ trợ thêm 1.000.000 đồng/năm/khu dân cư so với định mức quy định tại Điểm a, Khoản 2, Điều này. | C14: 1 | E14: =C14*D14 -> 0 | G14: =F14*$C$14 -> 0 | I14: =H14*$C$14 -> 0 | K14: =J14*$C$14 -> 0 | M14: =L14*$C$14 -> 0 | O14: =N14*$C$14 -> 0 | Q14: =P14*$C$14 -> 0 | R14: 0 | S14: =R14*$C$14 -> 0 | T14: 1 | U14: 2 | V14: 1 | W14: Khối 18 phường Đông Kinh: 1.179 hộ dân | X14: 2 | Y14: =V14/C14% -> 100
A15: - | B15: Đối với các khu dân cư thuộc xã khu vực III, II (xã vùng khó khăn) | C15: 1 | D15: 1707 | E15: =C15*D15 -> 1707 | F15: 1449 | G15: =F15*$C$15 -> 1449 | H15: 1292 | I15: =H15*$C$15 -> 1292 | J15: 1173 | K15: =J15*$C$15 -> 1173 | L15: 1158 | M15: =L15*$C$15 -> 1158 | N15: 1144 | O15: =N15*$C$15 -> 1144 | P15: 1134 | Q15: =P15*$C$15 -> 1134 | R15: 559 | S15: =R15*$C$15 -> 559 | T15: 1198 | U15: =T15*$C$15/2+W15*1/2 -> 930 | V15: 1 | W15: 662 | X15: =W15*V15 -> 662 | Y15: =V15/C15% -> 100

Sheet TongHop_NoiDungChi
A1: BIỂU 02: TỔNG HỢP KINH PHÍ THEO TỪNG NỘI DUNG CHI QUY ĐỊNH TẠI ĐIỀU 3 THÔNG TƯ SỐ 121/2017/TT-BTC
A2: ='Kp bo tri du toan'!A2:Z2 -> (Kèm theo Báo cáo số /BC-STC ngày tháng 10 năm 2026 của Sở Tài chính)
A3: Đơn vị: triệu đồng
A5: STT | B5: Nội dung chi (theo Khoản 3, Khoản 4 Điều 3 TT121) | C5: Dự toán năm 2024 | D5: Kinh phí thực hiện năm 2024 | E5: Dự toán năm 2025 | F5: Kinh phí thực hiện năm 2025 | G5: Kinh phí năm 2026 (tính lại) | H5: Ước thực hiện năm 2026 | I5: Ghi chú
A6: I | B6: Nội dung chi do Ủy ban Mặt trận Tổ quốc Việt Nam cấp xã tổ chức thực hiện (Khoản 3 Điều 3 TT121)
A7: 1 | B7: Chi cho công tác phát động Nhân dân tham gia Cuộc vận động và hưởng ứng các phong trào thi đua - điểm a | D7: =ROUND(1130.4/4440*C17,1) -> 1140.6 | F7: =ROUND(1174.6/4440*E17,1) -> 1185.2 | H7: =ROUND(1174.6/4440*G17,1) -> 411.4
A8: 2 | B8: Chi tổ chức họp, bàn biện pháp triển khai thực hiện ở địa phương - điểm b | D8: =ROUND(99.2/4440*C17,1) -> 100.1 | F8: =ROUND(112.1/4440*E17,1) -> 113.1 | H8: =ROUND(112.1/4440*G17,1) -> 39.3
A9: 3 | B9: Chi làm khẩu hiệu, pano, áp phích tuyên truyền cho Cuộc vận động - điểm c | D9: =ROUND(141.3/4440*C17,1) -> 142.6 | F9: =ROUND(111.7/4440*E17,1) -> 112.7 | H9: =ROUND(111.7/4440*G17,1) -> 39.1
A10: 4 | B10: Chi công tác phí đi học tập trao đổi kinh nghiệm thực tế, tập huấn, hướng dẫn triển khai - điểm d | D10: =ROUND(56.4/4440*C17,1) -> 56.9 | F10: =ROUND(54.9/4440*E17,1) -> 55.4 | H10: =ROUND(54.9/4440*G17,1) -> 19.2
A11: 5 | B11: Chi xây dựng mô hình, điển hình tiên tiến thực hiện Cuộc vận động - điểm đ | D11: =ROUND(50.6/4440*C17,1) -> 51.1 | F11: =ROUND(44.6/4440*E17,1) -> 45 | H11: =ROUND(44.6/4440*G17,1) -> 15.6
A12: 6 | B12: Chi làm giấy ghi nhận, khung giấy ghi nhận, tiền thưởng cho tập thể, cá nhân, gia đình - điểm e | D12: =ROUND(223.8/4440*C17,1) -> 225.8 | F12: =ROUND(204.1/4440*E17,1) -> 205.9 | H12: =ROUND(204.1/4440*G17,1) -> 71.5
A13: 7 | B13: Chi tổ chức lấy ý kiến về sự hài lòng của người dân - điểm g | D13: =ROUND(89.5/4440*C17,1) -> 90.3 | F13: =ROUND(78.9/4440*E17,1) -> 79.6 | H13: =ROUND(78.9/4440*G17,1) -> 27.6
A14: 8 | B14: Chi sơ kết, tổng kết hằng năm, tổng kết 5 năm 2 lần; chi khen thưởng - điểm h | D14: =ROUND(475.1/4440*C17,1) -> 479.4 | F14: =ROUND(493.6/4440*E17,1) -> 498 | H14: =ROUND(493.6/4440*G17,1) -> 172.9
A15: 9 | B15: Chi tổ chức Ngày hội đại đoàn kết toàn dân tộc cấp xã hằng năm (18/11) - điểm i | D15: =ROUND(1473.3/4440*C17,1) -> 1486.6 | F15: =ROUND(1473.7/4440*E17,1) -> 1487 | H15: =ROUND(1473.7/4440*G17,1) -> 516.1
A16: 10 | B16: Chi văn phòng phẩm, in ấn tài liệu và chi khác phục vụ Cuộc vận động - điểm k | D16: =C17-SUM(D7:D15) -> 706.6 | F16: =E17-SUM(F7:F15) -> 698.1 | H16: =G17-SUM(H7:H15) -> 242.3
B17: Cộng (I) | C17: ='Kp bo tri du toan'!Q9 -> 4480 | D17: =SUM(D7:D16) -> 4480 | E17: ='Kp bo tri du toan'!Q9 -> 4480 | F17: =SUM(F7:F16) -> 4480 | G17: ='Kp bo tri du toan'!U9 -> 1555 | H17: =SUM(H7:H16) -> 1555
A18: II | B18: Nội dung chi do Ban công tác Mặt trận ở khu dân cư tổ chức thực hiện (Khoản 4 Điều 3 TT121)
A19: 1 | B19: Chi tổ chức Ngày hội đại đoàn kết toàn dân tộc hằng năm (18/11) để tổng kết, biểu dương - điểm b | D19: =ROUND(4494.9/9040.1*C25,1) -> 4655.9 | F19: =ROUND(3793.8/9040.1*E25,1) -> 3929.7 | H19: =ROUND(3793.8/9040.1*G25,1) -> 3086.4
A20: 2 | B20: Chi tổ chức thông tin, tuyên truyền của Ban công tác Mặt trận ở khu dân cư - điểm c | D20: =ROUND(1463.6/9040.1*C25,1) -> 1516 | F20: =ROUND(1217/9040.1*E25,1) -> 1260.6 | H20: =ROUND(1217/9040.1*G25,1) -> 990.1
A21: 3 | B21: Chi công tác phí đi học tập trao đổi, tập huấn, hướng dẫn triển khai thực hiện - điểm d | D21: =ROUND(54.6/9040.1*C25,1) -> 56.6 | F21: =ROUND(46.3/9040.1*E25,1) -> 48 | H21: =ROUND(46.3/9040.1*G25,1) -> 37.7
A22: 4 | B22: Chi tiền xăng, xe đi vận động của Ban công tác Mặt trận ở khu dân cư - điểm đ | D22: =ROUND(306/9040.1*C25,1) -> 317 | F22: =ROUND(683.8/9040.1*E25,1) -> 708.3 | H22: =ROUND(683.8/9040.1*G25,1) -> 556.3
A23: 5 | B23: Chi văn phòng phẩm, in ấn tài liệu và chi khác phục vụ Cuộc vận động - điểm e | D23: =ROUND(578.8/9040.1*C25,1) -> 599.5 | F23: =ROUND(673.9/9040.1*E25,1) -> 698 | H23: =ROUND(673.9/9040.1*G25,1) -> 548.2
A24: 6 | B24: Các nội dung chi khác theo khoản 4 Điều 3 Thông tư số 121/2017/TT-BTC | D24: =C25-SUM(D19:D23) -> 2219 | F24: =E25-SUM(F19:F23) -> 2719.4 | H24: =G25-SUM(H19:H23) -> 2135.8
B25: Cộng (II) | C25: ='Kp bo tri du toan'!Q12 -> 9364 | D25: =SUM(D19:D24) -> 9364 | E25: ='Kp bo tri du toan'!Q12 -> 9364 | F25: =SUM(F19:F24) -> 9364 | G25: ='Kp bo tri du toan'!U12 -> 7354.5 | H25: =SUM(H19:H24) -> 7354.5
B26: TỔNG CỘNG (I + II) | C26: =C17+C25 -> 13844 | D26: =D17+D25 -> 13844 | E26: =E17+E25 -> 13844 | F26: =F17+F25 -> 13844 | G26: =G17+G25 -> 8909.5 | H26: =H17+H25 -> 8909.5

Sheet SoSanh_CacTinh
A1: BẢNG SO SÁNH MỨC CHI HỖ TRỢ UBMTTQ CẤP XÃ VÀ BAN CÔNG TÁC MẶT TRẬN Ở KHU DÂN CƯ THEO THÔNG TƯ 121/2017/TT-BTC TẠI MỘT SỐ TỈNH
A3: Tỉnh | B3: Căn cứ (Nghị quyết HĐND tỉnh) | C3: Mức chi UBMTTQ cấp xã (đồng/xã/năm) | D3: Mức chi Ban CTMT khu dân cư (đồng/năm/khu dân cư) | E3: Năm ban hành / hiệu lực | F3: Ghi chú
A4: Hà Nội | B4: NQ số 07/2018/NQ-HĐND | C4: 30 triệu (xã còn lại) / 37,5 triệu (xã khu vực II) | D4: 7,5 triệu (<700 hộ) + 1 triệu/200 hộ tăng thêm | E4: 2018 | F4: Địa bàn thủ đô, mặt bằng chi cao hơn nhiều tỉnh miền núi
A5: Thái Nguyên | B5: NQ số 44/2025/NQ-HĐND ngày 30/12/2025 | C5: 100 triệu (xã, phường còn lại) / 120 triệu (xã khó khăn, đặc biệt khó khăn) | D5: Khu dân cư thuộc xã khó khăn: 10 triệu đồng/ khu; khu dân cư còn lại: 8 triệu đồng/khu | E5: 2025 | F5: Tỉnh miền núi phía Bắc liền kề, quy mô KT-XH khá tương đồng
A6: Tuyên Quang (mới, sau hợp nhất với Hà Giang) | B6: NQ số 40/2025/NQ-HĐND ngày 10/12/2025, hiệu lực 01/01/2026 | C6: 40 triệu (xã/phường còn lại) / 50 triệu (xã khó khăn, ĐBKK vùng DTTS&MN); +10 triệu nếu dân số 15.000-30.000 người; +20 triệu nếu dân số trên 30.000 người | D6: 6 triệu (<700 hộ) + 1 triệu/200 hộ tăng thêm; +1 triệu nếu thuộc xã khó khăn/ĐBKK | E6: 2025 | F6: Tỉnh miền núi mới sáp nhập
A7: Cao Bằng | B7: NQ số 08/2018/NQ-HĐND ngày 12/7/2018 | C7: 20 triệu (xã KV I,II) / 25 triệu (xã KV III, vùng khó khăn) | D7: 5 triệu (<700 hộ) + 1 triệu/200 hộ tăng thêm; +1 triệu nếu thuộc xã khó khăn/ĐBKK | E7: 2018 | F7: Chưa điều chỉnh (giữ nguyên mức sàn tối thiểu của Thông tư 121)
A8: Sơn La | B8: NQ số 74/2018/NQ-HĐND ngày 04/4/2018 | C8: 20 triệu (xã KV I,II) / 25 triệu (xã KV III, vùng khó khăn) | D8: Xã ĐBKK (>150 hộ: 7,5 triệu đồng, từ 100 - 150 hộ: 7 triệu đồng, từ 50-100 hộ: 6,5 triệu đồng, dưới 50 hộ: 6 triệu đồng); xã không thuộc địa bàn ĐBKK (>150 hộ: 6,5 triệu đồng, từ 100 - 150 hộ: 6 triệu đồng, từ 50-100 hộ: 5,5 triệu đồng, dưới 50 hộ: 5 triệu đồng | E8: 2018 | F8: Chưa điều chỉnh
A9: Lai Châu | B9: NQ số 22/2018/NQ-HĐND ngày 10/12/2018 | C9: 20 triệu / 25 triệu (giữ mức tối thiểu theo TT121) | D9: >300 hộ: 5 triệu đồng; từ 100 hộ - 300 hộ: 4,5 triệu đồng; dưới 100 hộ: 4 triệu đồng; khu dân cư của xã ĐBKK: bố trí thêm 1 triệu đồng | E9: 2018 | F9: Chưa điều chỉnh
A10: Đăk Lăk | B10: NQ số 01/2018/NQ-HĐND ngày 05/7/2018 | C10: 20 triệu (xã KV I,II) / 25 triệu (xã KV III, vùng khó khăn) | D10: 5 triệu (<700 hộ) + 1 triệu/200 hộ tăng thêm; +1 triệu nếu thuộc xã khó khăn/ĐBKK | E10: 2018 | F10: Chưa điều chỉnh (giữ nguyên mức sàn tối thiểu của Thông tư 121)
